BEGIN:VCALENDAR
VERSION:2.0
PRODID:-//InoHub UPT - ECPv6.15.19//NONSGML v1.0//EN
CALSCALE:GREGORIAN
METHOD:PUBLISH
X-WR-CALNAME:InoHub UPT
X-ORIGINAL-URL:https://inohub.upt.ro
X-WR-CALDESC:Events for InoHub UPT
REFRESH-INTERVAL;VALUE=DURATION:PT1H
X-Robots-Tag:noindex
X-PUBLISHED-TTL:PT1H
BEGIN:VTIMEZONE
TZID:Europe/Helsinki
BEGIN:DAYLIGHT
TZOFFSETFROM:+0200
TZOFFSETTO:+0300
TZNAME:EEST
DTSTART:20200329T010000
END:DAYLIGHT
BEGIN:STANDARD
TZOFFSETFROM:+0300
TZOFFSETTO:+0200
TZNAME:EET
DTSTART:20201025T010000
END:STANDARD
BEGIN:DAYLIGHT
TZOFFSETFROM:+0200
TZOFFSETTO:+0300
TZNAME:EEST
DTSTART:20210328T010000
END:DAYLIGHT
BEGIN:STANDARD
TZOFFSETFROM:+0300
TZOFFSETTO:+0200
TZNAME:EET
DTSTART:20211031T010000
END:STANDARD
BEGIN:DAYLIGHT
TZOFFSETFROM:+0200
TZOFFSETTO:+0300
TZNAME:EEST
DTSTART:20220327T010000
END:DAYLIGHT
BEGIN:STANDARD
TZOFFSETFROM:+0300
TZOFFSETTO:+0200
TZNAME:EET
DTSTART:20221030T010000
END:STANDARD
END:VTIMEZONE
BEGIN:VTIMEZONE
TZID:UTC
BEGIN:STANDARD
TZOFFSETFROM:+0000
TZOFFSETTO:+0000
TZNAME:UTC
DTSTART:20190101T000000
END:STANDARD
END:VTIMEZONE
BEGIN:VEVENT
DTSTART;TZID=Europe/Helsinki:20210126T180000
DTEND;TZID=Europe/Helsinki:20210126T200000
DTSTAMP:20260421T173620
CREATED:20210128T103758Z
LAST-MODIFIED:20210128T103922Z
UID:1512-1611684000-1611691200@inohub.upt.ro
SUMMARY:Innovation Labs' Idea Jam - #1/2021
DESCRIPTION:Innovation Labs s-a întors! \nDacă ești ca majoritatea studenților\, în timpul sesiunii să fi distras ușor de la învățat și până să îți dai seama\, începi să cauți altceva…mult mai interesant de făcut. De data asta\, acel ‘lucru mai interesant de făcut’ poate fi participarea la Innovation Labs’ Idea Jam – #1/2021. \nInnovation Labs este un program la nivel național care te ajută să îți transformi ideile în prototipuri și apoi start-up-uri. \nDacă vrei să afli mai multe detalii despre program sau ești deja entuziasmat să participi\, atunci acest eveniment este o oportunitate perfectă pentru tine! \nCe se va întâmpla la acest eveniment? \n\nvei avea posibilitatea să îți prezinți ideea de business în fața unui juriu care îți va da sfaturi constructive;\ndacă ai o idee dar nu ai o echipă cu care să o pui în aplicare\, multe lucruri minunate se întâmplă atunci când oamenii se strâng împreună\, chiar și virtual. Cine știe\, poate o să îți găsești viitorii colegi de echipă chiar aici;\navem câteva premii pregătite penrtu cele mai bune idei și prezentări;\nvei avea o șansă reală să îți pregătești ideea înainte să te înscrii la viitorul eveniment din program – Hackathon-ul din 6-7 martie.\n\nDeci\, pregătește-ti ideea de business\, prezint-o în cele două minute alocate și completează formularul de înregistrare de aici: https://form.123formbuilder.com/5782143/form \nO să ne vedem pe 26. Fie ca cea mai bună idee să câștige!
URL:https://inohub.upt.ro/event/innovation-labs-idea-jam-1-2021/
LOCATION:ONLINE\, Timișoara\, Romania
END:VEVENT
BEGIN:VEVENT
DTSTART;TZID=UTC:20210112T180000
DTEND;TZID=UTC:20210112T210000
DTSTAMP:20260421T173620
CREATED:20201122T143433Z
LAST-MODIFIED:20201122T143531Z
UID:1341-1610474400-1610485200@inohub.upt.ro
SUMMARY:Meet the UPT Alumni: Flavius Demian\, General Manager and Founder at Deventure
DESCRIPTION:Join us for Startup Grind Politehnica University of Timisoara’s second event with Flavius Demian\, an alumnus of our university and General Manager and Founder of Deventure\, a UI/UX design and custom software development company born in Timisoara\, with offices in Dublin and Munich. \nFlavius believes in the constant improvement of himself and the Deventure team. Flavius has been the driving force of the .NET community of over 200 members in the city of Timisoara. A well-founded expertise in software architecture\, web and mobile development\, desktop development\, and database design strongly recommends him as a professional. \nJoin the event to be part of an informal and intimate (professional) interview – in Romanian – with Flavius\, who will tell us how he made the step from UPT graduate to entrepreneur and accomplished expert in his area. \nHighly recommended event for students and aspiring entrepreneurs! \n# Flavius Demian # Deventure \nStartup Grind members believe in making friends\, not contacts; in giving\, not taking; and in helping others before helping yourself. \nThis event is proudly organized in collaboration with UPT’s Student Entrepreneurial Society.
URL:https://inohub.upt.ro/event/meet-the-upt-alumni-flavius-demian-general-manager-and-founder-at-deventure/
LOCATION:ONLINE\, Timișoara\, Romania
END:VEVENT
BEGIN:VEVENT
DTSTART;TZID=UTC:20201116T080000
DTEND;TZID=UTC:20201126T170000
DTSTAMP:20260421T173620
CREATED:20201116T140547Z
LAST-MODIFIED:20201116T140607Z
UID:1322-1605513600-1606410000@inohub.upt.ro
SUMMARY:Start-up Your Future - Bootcamp de antreprenoriat
DESCRIPTION:Învață cum să-ți transformi ideile în afaceri de succes printr-un bootcamp de 2 săptămâni\n\n\nSocietatea Antreprenorială din UPT organizează un bootcamp de antreprenoriat\, dedicat studențiilor din universitate. Vino și dobândește cunoștințele necesare pentru a face primii pași spre propriul tău business de la traineri și mentori experți.  \nDetalii și înscrieri: https://sas.upt.ro/bootcamp
URL:https://inohub.upt.ro/event/start-up-your-future-bootcamp-de-antreprenoriat/
LOCATION:ONLINE\, Timișoara\, Romania
ATTACH;FMTTYPE=image/png:https://inohub.upt.ro/wp-content/uploads/2020/11/Andrei-Cosmin-Munteanu-3.png
END:VEVENT
END:VCALENDAR